BEGIN:VCALENDAR
VERSION:2.0
PRODID:-// - ECPv6.15.12.2//NONSGML v1.0//EN
CALSCALE:GREGORIAN
METHOD:PUBLISH
X-ORIGINAL-URL:https://vidhyadeepam.org
X-WR-CALDESC:Events for 
REFRESH-INTERVAL;VALUE=DURATION:PT1H
X-Robots-Tag:noindex
X-PUBLISHED-TTL:PT1H
BEGIN:VTIMEZONE
TZID:America/Los_Angeles
BEGIN:DAYLIGHT
TZOFFSETFROM:-0800
TZOFFSETTO:-0700
TZNAME:PDT
DTSTART:20190310T100000
END:DAYLIGHT
BEGIN:STANDARD
TZOFFSETFROM:-0700
TZOFFSETTO:-0800
TZNAME:PST
DTSTART:20191103T090000
END:STANDARD
BEGIN:DAYLIGHT
TZOFFSETFROM:-0800
TZOFFSETTO:-0700
TZNAME:PDT
DTSTART:20200308T100000
END:DAYLIGHT
BEGIN:STANDARD
TZOFFSETFROM:-0700
TZOFFSETTO:-0800
TZNAME:PST
DTSTART:20201101T090000
END:STANDARD
BEGIN:DAYLIGHT
TZOFFSETFROM:-0800
TZOFFSETTO:-0700
TZNAME:PDT
DTSTART:20210314T100000
END:DAYLIGHT
BEGIN:STANDARD
TZOFFSETFROM:-0700
TZOFFSETTO:-0800
TZNAME:PST
DTSTART:20211107T090000
END:STANDARD
BEGIN:DAYLIGHT
TZOFFSETFROM:-0800
TZOFFSETTO:-0700
TZNAME:PDT
DTSTART:20220313T100000
END:DAYLIGHT
BEGIN:STANDARD
TZOFFSETFROM:-0700
TZOFFSETTO:-0800
TZNAME:PST
DTSTART:20221106T090000
END:STANDARD
BEGIN:DAYLIGHT
TZOFFSETFROM:-0800
TZOFFSETTO:-0700
TZNAME:PDT
DTSTART:20230312T100000
END:DAYLIGHT
BEGIN:STANDARD
TZOFFSETFROM:-0700
TZOFFSETTO:-0800
TZNAME:PST
DTSTART:20231105T090000
END:STANDARD
BEGIN:DAYLIGHT
TZOFFSETFROM:-0800
TZOFFSETTO:-0700
TZNAME:PDT
DTSTART:20240310T100000
END:DAYLIGHT
BEGIN:STANDARD
TZOFFSETFROM:-0700
TZOFFSETTO:-0800
TZNAME:PST
DTSTART:20241103T090000
END:STANDARD
END:VTIMEZONE
BEGIN:VTIMEZONE
TZID:America/Los_Angeles
BEGIN:DAYLIGHT
TZOFFSETFROM:-0800
TZOFFSETTO:-0700
TZNAME:PDT
DTSTART:20170312T100000
END:DAYLIGHT
BEGIN:STANDARD
TZOFFSETFROM:-0700
TZOFFSETTO:-0800
TZNAME:PST
DTSTART:20171105T090000
END:STANDARD
BEGIN:DAYLIGHT
TZOFFSETFROM:-0800
TZOFFSETTO:-0700
TZNAME:PDT
DTSTART:20180311T100000
END:DAYLIGHT
BEGIN:STANDARD
TZOFFSETFROM:-0700
TZOFFSETTO:-0800
TZNAME:PST
DTSTART:20181104T090000
END:STANDARD
BEGIN:DAYLIGHT
TZOFFSETFROM:-0800
TZOFFSETTO:-0700
TZNAME:PDT
DTSTART:20190310T100000
END:DAYLIGHT
BEGIN:STANDARD
TZOFFSETFROM:-0700
TZOFFSETTO:-0800
TZNAME:PST
DTSTART:20191103T090000
END:STANDARD
END:VTIMEZONE
BEGIN:VTIMEZONE
TZID:America/Vancouver
BEGIN:DAYLIGHT
TZOFFSETFROM:-0800
TZOFFSETTO:-0700
TZNAME:PDT
DTSTART:20160313T100000
END:DAYLIGHT
BEGIN:STANDARD
TZOFFSETFROM:-0700
TZOFFSETTO:-0800
TZNAME:PST
DTSTART:20161106T090000
END:STANDARD
BEGIN:DAYLIGHT
TZOFFSETFROM:-0800
TZOFFSETTO:-0700
TZNAME:PDT
DTSTART:20170312T100000
END:DAYLIGHT
BEGIN:STANDARD
TZOFFSETFROM:-0700
TZOFFSETTO:-0800
TZNAME:PST
DTSTART:20171105T090000
END:STANDARD
BEGIN:DAYLIGHT
TZOFFSETFROM:-0800
TZOFFSETTO:-0700
TZNAME:PDT
DTSTART:20180311T100000
END:DAYLIGHT
BEGIN:STANDARD
TZOFFSETFROM:-0700
TZOFFSETTO:-0800
TZNAME:PST
DTSTART:20181104T090000
END:STANDARD
END:VTIMEZONE
BEGIN:VTIMEZONE
TZID:UTC
BEGIN:STANDARD
TZOFFSETFROM:+0000
TZOFFSETTO:+0000
TZNAME:UTC
DTSTART:20160101T000000
END:STANDARD
END:VTIMEZONE
BEGIN:VEVENT
DTSTART;TZID=America/Los_Angeles:20200913T143000
DTEND;TZID=America/Los_Angeles:20200913T160000
DTSTAMP:20260422T091446
CREATED:20200903T161008Z
LAST-MODIFIED:20200903T175108Z
UID:238-1600007400-1600012800@vidhyadeepam.org
SUMMARY:Vidhya Vihar Classes Start September 13th
DESCRIPTION:Vidhya Vihar Classes start September 13\, 2020 with an Open House for New and Returning Members.  We will provide an overview of our curriculum and you will meet the teachers.  We are planning to conduct classes virtually for the 20/21 school year.  Classes meet weekly on Sunday afternoons.  Please attend our Open House to Learn More!
URL:https://vidhyadeepam.org/event/vidhya-vihar-classes-start-september-13th/
ATTACH;FMTTYPE=application/pdf:https://vidhyadeepam.org/wp-content/uploads/2020/09/Vidhya-Deepam-Flyer-v2-1.pdf
END:VEVENT
BEGIN:VEVENT
DTSTART;TZID=America/Los_Angeles:20200913T090000
DTEND;TZID=America/Los_Angeles:20200913T093000
DTSTAMP:20260422T091446
CREATED:20200903T161532Z
LAST-MODIFIED:20200903T162131Z
UID:242-1599987600-1599989400@vidhyadeepam.org
SUMMARY:Yoga (online every Sunday)
DESCRIPTION:Members are invited to join the Sunday morning yoga class.  This energizing and refreshing 30 minute class is led by our certified yoga instructor who will provide feedback to students on their poses and explain the purpose and background to the various poses.  Class starts promptly online at 9:00am.  Please have a yoga mat\, block\, and blanket (for padding).  The link to join is sent out on Sunday mornings before class.
URL:https://vidhyadeepam.org/event/yoga-online/
END:VEVENT
BEGIN:VEVENT
DTSTART;TZID=America/Los_Angeles:20200912T150000
DTEND;TZID=America/Los_Angeles:20200912T170000
DTSTAMP:20260422T091446
CREATED:20200903T162022Z
LAST-MODIFIED:20200903T164705Z
UID:244-1599922800-1599930000@vidhyadeepam.org
SUMMARY:Meals for Tiny House Village (every Saturday)
DESCRIPTION:Members are invited to participate in meal preparation and delivery every Saturday to the Tiny House Village in Seattle.  Tiny House Village (THV) is transitional housing for individuals who have struggled with homelessness and are now moving towards permanent housing.  This event is organized by another group but our members are invited to participate.  Two Saturdays a month\, volunteers are needed to pick up food at the Veda Temple in Redmond and deliver to THV in Seattle.  Two Saturdays a month\, volunteers are needed to prepare vegetarian food and deliver to THV.  Additional details available upon request.
URL:https://vidhyadeepam.org/event/tiny-house-village-every-saturday/
END:VEVENT
BEGIN:VEVENT
DTSTART;VALUE=DATE:20200831
DTEND;VALUE=DATE:20230901
DTSTAMP:20260422T091446
CREATED:20200914T001637Z
LAST-MODIFIED:20220829T022830Z
UID:289-1598832000-1693526399@vidhyadeepam.org
SUMMARY:
DESCRIPTION:
URL:https://vidhyadeepam.org/event/289/
END:VEVENT
BEGIN:VEVENT
DTSTART;TZID=America/Los_Angeles:20180909T150000
DTEND;TZID=America/Los_Angeles:20180909T170000
DTSTAMP:20260422T091446
CREATED:20180909T061750Z
LAST-MODIFIED:20180909T061750Z
UID:141-1536505200-1536512400@vidhyadeepam.org
SUMMARY:First class of 2018-19 starts Sunday Sept 9th
DESCRIPTION:Hope every one had a wonderful summer break and are settling into the school year. Vidhya Deepam session starts this Sunday\, Sept 9th @ 3PM. We have an exciting agenda for this class.
URL:https://vidhyadeepam.org/event/first-class-of-2018-19-starts-sunday-sept-9th/
LOCATION:Synergy School\, Issaquah\, WA
END:VEVENT
BEGIN:VEVENT
DTSTART;TZID=America/Los_Angeles:20180218T150000
DTEND;TZID=America/Los_Angeles:20180218T170000
DTSTAMP:20260422T091446
CREATED:20180211T205538Z
LAST-MODIFIED:20180211T205538Z
UID:95-1518966000-1518973200@vidhyadeepam.org
SUMMARY:Vidhya Vihar on Feb 18th 2018
DESCRIPTION:Class as usual from 3PM to 5PM
URL:https://vidhyadeepam.org/event/vidhya-vihar-on-feb-18th-2018/
LOCATION:Synergy School\, 1555 NW Sammamish Rd\, Issaquah\, WA\, 98027
END:VEVENT
BEGIN:VEVENT
DTSTART;TZID=America/Los_Angeles:20180217T100000
DTEND;TZID=America/Los_Angeles:20180217T130000
DTSTAMP:20260422T091446
CREATED:20180211T210200Z
LAST-MODIFIED:20180211T210200Z
UID:97-1518861600-1518872400@vidhyadeepam.org
SUMMARY:Volunteering at a farm
DESCRIPTION:Farming is an essential part of our well being and back bone of our economy.  We have a great opportunity to support activities in Harivilas Farms (Soil prep\, seeding\, garden activities)and essentially learn the importance of “Farm to Lord”.  Adults and children can participate in this activity.
URL:https://vidhyadeepam.org/event/volunteering-at-a-farm/
ATTACH;FMTTYPE=image/png:https://vidhyadeepam.org/wp-content/uploads/2018/02/volunteering.png
END:VEVENT
BEGIN:VEVENT
DTSTART;TZID=America/Los_Angeles:20180211T150000
DTEND;TZID=America/Los_Angeles:20180211T170000
DTSTAMP:20260422T091446
CREATED:20180211T202530Z
LAST-MODIFIED:20180211T205438Z
UID:84-1518361200-1518368400@vidhyadeepam.org
SUMMARY:Vidhya Vihar on Feb 11th 2018
DESCRIPTION:Vidya Vihar class on Sunday Feb 11th 2018
URL:https://vidhyadeepam.org/event/vidya-vihar-on-feb-11th-2018/
LOCATION:Synergy School\, Issaquah\, WA
END:VEVENT
BEGIN:VEVENT
DTSTART;TZID=America/Los_Angeles:20180210T100000
DTEND;TZID=America/Los_Angeles:20180210T140000
DTSTAMP:20260422T091446
CREATED:20180205T210534Z
LAST-MODIFIED:20180211T210554Z
UID:99-1518256800-1518271200@vidhyadeepam.org
SUMMARY:Volunteering to plant trees
DESCRIPTION:We put so much carbon dioxide into the air\, be it our cars or our homes. Let us take some action to reverse that and help fight climate change at the same time and leave a better planet for our kids and the generations that follow them. Adults and children can participate in planting trees.
URL:https://vidhyadeepam.org/event/volunteering-to-plant-trees/
LOCATION:Tolt McDonald Park\, 31020 NE 40th St.\, Carnation\, WA\, United States
ATTACH;FMTTYPE=image/png:https://vidhyadeepam.org/wp-content/uploads/2018/02/volunteering.png
END:VEVENT
BEGIN:VEVENT
DTSTART;TZID=America/Los_Angeles:20180107T150000
DTEND;TZID=America/Los_Angeles:20180107T170000
DTSTAMP:20260422T091446
CREATED:20171218T062354Z
LAST-MODIFIED:20171217T223511Z
UID:71-1515337200-1515344400@vidhyadeepam.org
SUMMARY:Vidhya Vihar on Jan 7th
DESCRIPTION:2018 kicks off with class on Sunday Jan 7th from 3 – 5 PM
URL:https://vidhyadeepam.org/event/vidhya-vihar-on-jan-7th/
LOCATION:Synergy School\, Issaquah\, WA
END:VEVENT
BEGIN:VEVENT
DTSTART;TZID=America/Vancouver:20171217T150000
DTEND;TZID=America/Vancouver:20171217T170000
DTSTAMP:20260422T091446
CREATED:20171218T062110Z
LAST-MODIFIED:20171218T063128Z
UID:69-1513522800-1513530000@vidhyadeepam.org
SUMMARY:Vidhya Vihar on Dec 17th
DESCRIPTION:Class on Sunday Dec 17th from 3 – 5 PM
URL:https://vidhyadeepam.org/event/vidhya-vihar-on-dec-17th/
LOCATION:Synergy School\, 1555 NW Sammamish Rd\, Issaquah\, WA\, 98027
END:VEVENT
BEGIN:VEVENT
DTSTART;TZID=UTC:20171027T183000
DTEND;TZID=UTC:20171027T220000
DTSTAMP:20260422T091446
CREATED:20171010T042330Z
LAST-MODIFIED:20171010T042330Z
UID:51-1509129000-1509141600@vidhyadeepam.org
SUMMARY:Bhajans & Diwali Celebrations
DESCRIPTION: Bhajans\, Diwali celebration potluck and Sparklers
URL:https://vidhyadeepam.org/event/bhajans-diwali-celebrations/
END:VEVENT
BEGIN:VEVENT
DTSTART;TZID=UTC:20171022T150000
DTEND;TZID=UTC:20171022T170000
DTSTAMP:20260422T091446
CREATED:20171010T041943Z
LAST-MODIFIED:20171011T041747Z
UID:49-1508684400-1508691600@vidhyadeepam.org
SUMMARY:Vidhya Vihar on Oct 22nd
DESCRIPTION:Class from 3 – 5 PM
URL:https://vidhyadeepam.org/event/vidya-vihar-on-oct-22nd/
END:VEVENT
BEGIN:VEVENT
DTSTART;TZID=UTC:20171015T150000
DTEND;TZID=UTC:20171015T170000
DTSTAMP:20260422T091446
CREATED:20171010T041240Z
LAST-MODIFIED:20171011T041743Z
UID:42-1508079600-1508086800@vidhyadeepam.org
SUMMARY:Vidhya Vihar on Oct 15th
DESCRIPTION:Class on Sunday Oct 15th from 3 – 5 PM
URL:https://vidhyadeepam.org/event/class-on-sunday-oct-15th/
END:VEVENT
END:VCALENDAR